BEGIN:VCALENDAR
VERSION:2.0
PRODID:-//Mylène  Delacretaz - ECPv6.15.20//NONSGML v1.0//EN
CALSCALE:GREGORIAN
METHOD:PUBLISH
X-WR-CALNAME:Mylène  Delacretaz
X-ORIGINAL-URL:http://mylenedelacretaz.fr
X-WR-CALDESC:Évènements pour Mylène  Delacretaz
REFRESH-INTERVAL;VALUE=DURATION:PT1H
X-Robots-Tag:noindex
X-PUBLISHED-TTL:PT1H
BEGIN:VTIMEZONE
TZID:Europe/Paris
BEGIN:DAYLIGHT
TZOFFSETFROM:+0100
TZOFFSETTO:+0200
TZNAME:CEST
DTSTART:20250330T010000
END:DAYLIGHT
BEGIN:STANDARD
TZOFFSETFROM:+0200
TZOFFSETTO:+0100
TZNAME:CET
DTSTART:20251026T010000
END:STANDARD
BEGIN:DAYLIGHT
TZOFFSETFROM:+0100
TZOFFSETTO:+0200
TZNAME:CEST
DTSTART:20260329T010000
END:DAYLIGHT
BEGIN:STANDARD
TZOFFSETFROM:+0200
TZOFFSETTO:+0100
TZNAME:CET
DTSTART:20261025T010000
END:STANDARD
BEGIN:DAYLIGHT
TZOFFSETFROM:+0100
TZOFFSETTO:+0200
TZNAME:CEST
DTSTART:20270328T010000
END:DAYLIGHT
BEGIN:STANDARD
TZOFFSETFROM:+0200
TZOFFSETTO:+0100
TZNAME:CET
DTSTART:20271031T010000
END:STANDARD
END:VTIMEZONE
BEGIN:VEVENT
DTSTART;TZID=Europe/Paris:20260420T183000
DTEND;TZID=Europe/Paris:20260420T200000
DTSTAMP:20260420T023159
CREATED:20260311T165315Z
LAST-MODIFIED:20260412T171252Z
UID:7679-1776709800-1776715200@mylenedelacretaz.fr
SUMMARY:les lundis de l'impro à l'Art del'Être
DESCRIPTION:Venez rejoindre l’équipe d’improvisation théâtrale  pour un nouveau trimestre  de partage de bons moments  les lundis soir de 18H30 à 20H! \n  \nTarif à la séance: 10€ \nTarif pour le trimestre: 50€ \n1ère séance d’essai offerte ou contribution libre et consciente à l’association L’Art de l’Être ! Merci \n  \nAdhésion à l’association obligatoire \nSur inscription auprès de Mylène 0698360045
URL:http://mylenedelacretaz.fr/event/les-lundis-de-limpro-a-lart-deletre/
LOCATION:l’Art de l’Être\, 4 Magny\, SAINT-VINCENT-DE-REINS\, 69\, 69240\, France
ATTACH;FMTTYPE=image/jpeg:http://mylenedelacretaz.fr/wp-content/uploads/2026/03/IMPRO.jpg
END:VEVENT
END:VCALENDAR